BEGIN:VCALENDAR
VERSION:2.0
PRODID:-//Sustainable Saratoga - ECPv6.15.20//NONSGML v1.0//EN
CALSCALE:GREGORIAN
METHOD:PUBLISH
X-ORIGINAL-URL:https://sustainablesaratoga.org
X-WR-CALDESC:Events for Sustainable Saratoga
REFRESH-INTERVAL;VALUE=DURATION:PT1H
X-Robots-Tag:noindex
X-PUBLISHED-TTL:PT1H
BEGIN:VTIMEZONE
TZID:America/New_York
BEGIN:DAYLIGHT
TZOFFSETFROM:-0500
TZOFFSETTO:-0400
TZNAME:EDT
DTSTART:20250309T070000
END:DAYLIGHT
BEGIN:STANDARD
TZOFFSETFROM:-0400
TZOFFSETTO:-0500
TZNAME:EST
DTSTART:20251102T060000
END:STANDARD
BEGIN:DAYLIGHT
TZOFFSETFROM:-0500
TZOFFSETTO:-0400
TZNAME:EDT
DTSTART:20260308T070000
END:DAYLIGHT
BEGIN:STANDARD
TZOFFSETFROM:-0400
TZOFFSETTO:-0500
TZNAME:EST
DTSTART:20261101T060000
END:STANDARD
BEGIN:DAYLIGHT
TZOFFSETFROM:-0500
TZOFFSETTO:-0400
TZNAME:EDT
DTSTART:20270314T070000
END:DAYLIGHT
BEGIN:STANDARD
TZOFFSETFROM:-0400
TZOFFSETTO:-0500
TZNAME:EST
DTSTART:20271107T060000
END:STANDARD
END:VTIMEZONE
BEGIN:VEVENT
DTSTART;TZID=America/New_York:20260329T130000
DTEND;TZID=America/New_York:20260329T160000
DTSTAMP:20260422T150258
CREATED:20260226T021351Z
LAST-MODIFIED:20260317T134228Z
UID:15581-1774789200-1774800000@sustainablesaratoga.org
SUMMARY:Repair Cafe
DESCRIPTION:Toss it? No way! Bring an item that needs repair and work with a Repair Café coach to fix it.\n\nSaratoga Springs Public Library and Sustainable Saratoga are excited to host our 16th Repair Café at the library on Sunday\, March 29 from 1pm – 4pm. \nOne item per guest\, please. \nFeaturing NEW repair services– book repair\, preservation of family papers/photos\, and poetry repair with Jay Rogoff\, Saratoga Springs Poet Laureate. “Sometimes\,” Rogoff says\, “a poet just needs a second pair of eyes—or ears—on a poem to realize what kinds of changes might help improve it. And it is repair!” \n\nWe will have coaches available to help you fix your lamps\, small appliances\, computers\, leather\, jewelry\, or sew/hem your favorite item of clothing or beloved stuffed animal. We can’t wait to see you!Questions? Call 518-584-7860\, ext. 242.
URL:https://sustainablesaratoga.org/event/repair-cafe-7/
LOCATION:Saratoga Springs Public Library\, Harry Dutcher Community Room\, 49 Henry Street\, Saratoga Springs\, NY\, 12866\, United States
CATEGORIES:Community,Recycling
ATTACH;FMTTYPE=image/jpeg:https://sustainablesaratoga.org/wp-content/uploads/2026/02/2026MarchRCInsta26c.jpg
END:VEVENT
END:VCALENDAR