BEGIN:VCALENDAR
VERSION:2.0
PRODID:-//Sustainable Saratoga - ECPv6.15.20//NONSGML v1.0//EN
CALSCALE:GREGORIAN
METHOD:PUBLISH
X-WR-CALNAME:Sustainable Saratoga
X-ORIGINAL-URL:https://sustainablesaratoga.org
X-WR-CALDESC:Events for Sustainable Saratoga
REFRESH-INTERVAL;VALUE=DURATION:PT1H
X-Robots-Tag:noindex
X-PUBLISHED-TTL:PT1H
BEGIN:VTIMEZONE
TZID:America/New_York
BEGIN:DAYLIGHT
TZOFFSETFROM:-0500
TZOFFSETTO:-0400
TZNAME:EDT
DTSTART:20240310T070000
END:DAYLIGHT
BEGIN:STANDARD
TZOFFSETFROM:-0400
TZOFFSETTO:-0500
TZNAME:EST
DTSTART:20241103T060000
END:STANDARD
BEGIN:DAYLIGHT
TZOFFSETFROM:-0500
TZOFFSETTO:-0400
TZNAME:EDT
DTSTART:20250309T070000
END:DAYLIGHT
BEGIN:STANDARD
TZOFFSETFROM:-0400
TZOFFSETTO:-0500
TZNAME:EST
DTSTART:20251102T060000
END:STANDARD
BEGIN:DAYLIGHT
TZOFFSETFROM:-0500
TZOFFSETTO:-0400
TZNAME:EDT
DTSTART:20260308T070000
END:DAYLIGHT
BEGIN:STANDARD
TZOFFSETFROM:-0400
TZOFFSETTO:-0500
TZNAME:EST
DTSTART:20261101T060000
END:STANDARD
END:VTIMEZONE
BEGIN:VEVENT
DTSTART;TZID=America/New_York:20251004T090000
DTEND;TZID=America/New_York:20251004T130000
DTSTAMP:20260422T184949
CREATED:20250513T164140Z
LAST-MODIFIED:20250904T130801Z
UID:14662-1759568400-1759582800@sustainablesaratoga.org
SUMMARY:Paint Collection Day
DESCRIPTION:Paint Collection Day\nDATE: Saturday October 4\, 9:00am to 1:00pm \nLOCATION: Saratoga Springs High School parking lot. Enter from West Avenue. \nThis is a free community event\, and donations are greatly appreciated \nREGISTER HERE: https://circular.eco/event/SS10425 \nGREENSHEEN WILL COLLECT AND RECYCLE:\nInterior and exterior architectural paints: Latex\, acrylic\, water-based\, alkyd\, oil-based\, enamel\nDeck coatings\, floor paints (including elastomeric)\nPrimers sealers\, undercoaters\nStains\nShellacs\, sealers\, varnishes\, urethanes (single component)\nWaterproofing concrete/masonry/wood sealers and repellants (not tar or bitumen-based)\nMetal coatings\, rust preventatives\nField and lawn paints\nNo empty containers. Containers must be intact and not leaking and must have original manufacturer label. \nWE CANNOT ACCEPT THE FOLLOWING ITEMS (they will be left in your vehicle):Aerosols (spray cans)Paint thinners\, mineral spirits\, solventsAuto and marine paintArt and craft paintCaulking compounds\, epoxies\, glues\, adhesivesPaint additives\, colorants\, tints\, resinsEmpty containersLeaking containersContainers without original manufacturer label
URL:https://sustainablesaratoga.org/event/paint-collection-day-3/
LOCATION:Saratoga Springs High School\, 1 Bluestreak Blvd\, Saratoga Springs\, 12866\, United States
END:VEVENT
BEGIN:VEVENT
DTSTART;TZID=America/New_York:20251018T090000
DTEND;TZID=America/New_York:20251018T120000
DTSTAMP:20260422T184949
CREATED:20250513T172039Z
LAST-MODIFIED:20250911T005419Z
UID:14667-1760778000-1760788800@sustainablesaratoga.org
SUMMARY:Saratoga Recycles Day
DESCRIPTION:Sustainable Saratoga is hosting our 9th annual Saratoga Recycles Day event sponsored by Adirondack Trust Company!\nWHAT: Saratoga Recycles DayWHEN: Saturday\, October 18\, from 9 am until noonWHERE: SPAC Parking Lot\, west side of Route 50COST: There is a $5 entrance fee per vehicle (cash or check – please bring exact change). TVs are an additional $20 recycling fee per item. \nPLEASE VISIT OUR WEBSITE FOR ADDITIONAL DETAILS: https://sustainablesaratoga.org/…/saratoga-recycles-day/ \n\nWHAT WE ARE COLLECTING (see map below): \n\nMetal Objects by Tri City Recycling: All scrap metal and freon bearing devices – air conditioners\, humidifiers and mini-fridges \nElectronics & Appliances by Capital Region Electronics Recycling: televisions ($20 fee)\, monitors\, microwaves\, toasters\, blenders\, coffee machines\, hot plates\, cable or satellite receivers\, audio/visual equipment\, phones\, computers & accessories\, printers\, VCRs\, DVD players\, video game systems\, wiring & cables\, etc. NO alkaline batteries\, smoke detectors\, or thermostats. \n* Televisions*: We WILL be accepting TVs again this year\, for an additional recycling fee of $20 per item. \nEyeglasses & Hearing Aids for the Saratoga Lions Club: sunglasses & eyeglasses (prescription or nonprescription)\, hearing aids in any condition. NO cases please. \nCell Phones for Wellspring: Cell phones (any condition) and chargers \nMusical Instruments for We Are Instrumental: Musical Instruments (any condition): Woodwind\, brass\, string instruments. No pianos or drums. \nSaratoga Children’s Literacy League & Bulk Book Warehouse: Gently used children\, young adult\, adult books and textbooks\, audiobooks\, DVDs\, CDs\, video games and puzzles. No religious or holiday books. \nClothing & Household Textiles for American Clothing Company: clothes\, coats\, shoes\, belts\, hats\, gloves\, sleeping bags\, backpacks\, sheets\, quilts\, comforters\, towels\, rags\, etc. (any condition). NO pillows\, carpeting\, or rugs. \nBikes for BIkeatoga: Adult bikes\, 20 & 24”\, mountain bikes. No helmets and No kids’ bikes. \nPLEASE NOTE THAT WE CANNOT ACCEPT THE FOLLOWING ITEMS:~ Pillows~ Carpeting~ Rugs~ Thermostats~ Smoke detectors~ Fluorescent light bulbs~ Toxic/hazardous materials~ Batteries~ Large appliances
URL:https://sustainablesaratoga.org/event/saratoga-recycles-day/
LOCATION:SPAC Parking Lot\, West side of Route 50\, West Side of Route 50\, Saratoga Springs\, NY\, 12866\, United States
END:VEVENT
END:VCALENDAR