BEGIN:VCALENDAR
VERSION:2.0
PRODID:-//Sustainable Saratoga - ECPv6.15.20//NONSGML v1.0//EN
CALSCALE:GREGORIAN
METHOD:PUBLISH
X-ORIGINAL-URL:https://sustainablesaratoga.org
X-WR-CALDESC:Events for Sustainable Saratoga
REFRESH-INTERVAL;VALUE=DURATION:PT1H
X-Robots-Tag:noindex
X-PUBLISHED-TTL:PT1H
BEGIN:VTIMEZONE
TZID:America/New_York
BEGIN:DAYLIGHT
TZOFFSETFROM:-0500
TZOFFSETTO:-0400
TZNAME:EDT
DTSTART:20240310T070000
END:DAYLIGHT
BEGIN:STANDARD
TZOFFSETFROM:-0400
TZOFFSETTO:-0500
TZNAME:EST
DTSTART:20241103T060000
END:STANDARD
BEGIN:DAYLIGHT
TZOFFSETFROM:-0500
TZOFFSETTO:-0400
TZNAME:EDT
DTSTART:20250309T070000
END:DAYLIGHT
BEGIN:STANDARD
TZOFFSETFROM:-0400
TZOFFSETTO:-0500
TZNAME:EST
DTSTART:20251102T060000
END:STANDARD
BEGIN:DAYLIGHT
TZOFFSETFROM:-0500
TZOFFSETTO:-0400
TZNAME:EDT
DTSTART:20260308T070000
END:DAYLIGHT
BEGIN:STANDARD
TZOFFSETFROM:-0400
TZOFFSETTO:-0500
TZNAME:EST
DTSTART:20261101T060000
END:STANDARD
END:VTIMEZONE
BEGIN:VEVENT
DTSTART;TZID=America/New_York:20250531T100000
DTEND;TZID=America/New_York:20250531T150000
DTSTAMP:20260421T235711
CREATED:20250121T175750Z
LAST-MODIFIED:20250529T121338Z
UID:14148-1748685600-1748703600@sustainablesaratoga.org
SUMMARY:Pollinator Palooza
DESCRIPTION:Sustainable Saratoga is hosting Pollinator Palooza\, a native plant sale and pollinator education event\, on Saturday\, May 31 from 10-3. RAIN OR SHINE!\nNative pollinators (bees\, butterflies\, etc.) are in drastic decline due to habitat loss\, pesticide use\, and climate change. Planting native plants provides essential food and habitat for native pollinators. It is often challenging to find native plants\, but at Pollinator Palooza\, you can shop our selection of over 30 native plant species. \n\nDATE: Saturday\, May 31\, 2025 (rain or shine) \nTIME: 10 am until 3 pm\nLOCATION: 390 Wilton Gansevoort Rd\, Gansevoort\, NY 12831 (just 10 miles from downtown Saratoga Springs)\n\nPLEASE NOTE: Cash or check preferred \n\nMake a day of it! Learn how your garden\, no matter how small\, can help pollinators. Pollinator Palooza features information about sustainable gardening\, the importance of native species\, and general plant and pollinator educational resources\, including free soil pH testing. We will have fun kids’ activities\, raffles (gift certificates\, books\, plants\, and more)\, entertainment\, and delicious food from Coach’s Corner Food Truck! See the plant list and participating organizations HERE.
URL:https://sustainablesaratoga.org/event/pollinator-palooza-2/
LOCATION:NY
END:VEVENT
END:VCALENDAR