BEGIN:VCALENDAR
VERSION:2.0
PRODID:-//Sustainable Saratoga - ECPv6.15.20//NONSGML v1.0//EN
CALSCALE:GREGORIAN
METHOD:PUBLISH
X-WR-CALNAME:Sustainable Saratoga
X-ORIGINAL-URL:https://sustainablesaratoga.org
X-WR-CALDESC:Events for Sustainable Saratoga
REFRESH-INTERVAL;VALUE=DURATION:PT1H
X-Robots-Tag:noindex
X-PUBLISHED-TTL:PT1H
BEGIN:VTIMEZONE
TZID:America/New_York
BEGIN:DAYLIGHT
TZOFFSETFROM:-0500
TZOFFSETTO:-0400
TZNAME:EDT
DTSTART:20240310T070000
END:DAYLIGHT
BEGIN:STANDARD
TZOFFSETFROM:-0400
TZOFFSETTO:-0500
TZNAME:EST
DTSTART:20241103T060000
END:STANDARD
BEGIN:DAYLIGHT
TZOFFSETFROM:-0500
TZOFFSETTO:-0400
TZNAME:EDT
DTSTART:20250309T070000
END:DAYLIGHT
BEGIN:STANDARD
TZOFFSETFROM:-0400
TZOFFSETTO:-0500
TZNAME:EST
DTSTART:20251102T060000
END:STANDARD
BEGIN:DAYLIGHT
TZOFFSETFROM:-0500
TZOFFSETTO:-0400
TZNAME:EDT
DTSTART:20260308T070000
END:DAYLIGHT
BEGIN:STANDARD
TZOFFSETFROM:-0400
TZOFFSETTO:-0500
TZNAME:EST
DTSTART:20261101T060000
END:STANDARD
END:VTIMEZONE
BEGIN:VEVENT
DTSTART;TZID=America/New_York:20250204T173000
DTEND;TZID=America/New_York:20250204T183000
DTSTAMP:20260422T115027
CREATED:20250121T145929Z
LAST-MODIFIED:20250122T021400Z
UID:14127-1738690200-1738693800@sustainablesaratoga.org
SUMMARY:Jon Bowermaster Film Screening
DESCRIPTION:Join us at Skidmore College Emerson Auditorium on February 4 at 5:30pm for Jon Bowermaster’s Film Screening\, WindShipped. \nWindShipped – Charismatic Captain Sam Merrett sails his sail-freight “Schooner Apollonia” up and down the Hudson River\, delivering goods to a dozen ports sans fossil fuels\, powered only by the wind and the sun. “WindShipped” follows Sam and crew during its first season\, 2020.
URL:https://sustainablesaratoga.org/event/jon-bowermaster-film-screening/
LOCATION:Skidmore College Gannet Auditorium\, 815 N Broadway\, Saratoga Springs\, NY\, 12866\, United States
END:VEVENT
BEGIN:VEVENT
DTSTART;TZID=America/New_York:20250212T170000
DTEND;TZID=America/New_York:20250212T190000
DTSTAMP:20260422T115027
CREATED:20250103T021817Z
LAST-MODIFIED:20250112T210525Z
UID:13997-1739379600-1739386800@sustainablesaratoga.org
SUMMARY:Green Drinks
DESCRIPTION:GREEN DRINKS WEDNESDAY FEBRUARY 12!\nGreen Drinks! A “green gathering” for those who work\, volunteer\, or have a passion for promoting the environment\, conservation\, and sustainability.\nWHEN: Wednesday February 12\, from 5:00 – 7:00 pm\nWHERE: Whitman Brewing Company\, 20 Lake Ave\, Saratoga Springs\nDETAILS: Food\, alcoholic\, and non-alcoholic drinks are available for purchase.\nGreen Drinks – Saratoga Springs is held monthly.\nWhile this is a networking event\, solicitation is not allowed.
URL:https://sustainablesaratoga.org/event/green-drinks-16/
LOCATION:Whitman Brewing Company\, 20 Lake Ave\, Saratoga Springs\, NY\, 12866
END:VEVENT
BEGIN:VEVENT
DTSTART;TZID=America/New_York:20250226T190000
DTEND;TZID=America/New_York:20250226T200000
DTSTAMP:20260422T115027
CREATED:20250109T185709Z
LAST-MODIFIED:20250211T165833Z
UID:14076-1740596400-1740600000@sustainablesaratoga.org
SUMMARY:Science on Tap
DESCRIPTION:Science On Tap is a monthly series of informal talks led by scientists that explore current research topics and the importance of science in our daily life. Each talk takes place in a relaxed pub atmosphere where communication flows freely between scientists and the public. Co-presented by Skidmore’s Environmental Studies and Sciences Department and Sustainable Saratoga\, these monthly opportunities for discussion reflect the unique intellectual culture of the greater Capital Region and promote scientific literacy. \nThe next Science on Tap is Wednesday\, February 26 @ 7:00 pm. \nAdmission is free and all ages are welcome. Come early to get a bite to eat. The talk will start promptly at 7:00pm. \n\nTalk Title – Alternate roots: navigating the complex relationship between fungi and forest trees \n\n\nTalk Summary – From ending the world to saving the world\, why is everyone suddenly so interested in mushrooms and fungi? We will explore this question with respect to fungi in forest ecosystems\, particularly belowground\, and how recent research has uncovered the role they play in the structure\, function\, and health of forest ecosystems. \n\nTalk Speaker – Kurt Smemo is a Professor and Chair of the Environmental Studies and Sciences Department at Skidmore College. He is an ecosystem scientist with more than 30 years of experience in forest and soil science. He holds degrees from the University of Montana\, University of Illinois at Urbana-Champaign\, and Cornell University.
URL:https://sustainablesaratoga.org/event/science-on-tap-3/
LOCATION:Common Roots Brewing Company\, 58 Saratoga Ave\, South Glens Falls\, 12803\, United States
END:VEVENT
END:VCALENDAR