BEGIN:VCALENDAR
VERSION:2.0
PRODID:-//Sustainable Saratoga - ECPv6.15.20//NONSGML v1.0//EN
CALSCALE:GREGORIAN
METHOD:PUBLISH
X-ORIGINAL-URL:https://sustainablesaratoga.org
X-WR-CALDESC:Events for Sustainable Saratoga
REFRESH-INTERVAL;VALUE=DURATION:PT1H
X-Robots-Tag:noindex
X-PUBLISHED-TTL:PT1H
BEGIN:VTIMEZONE
TZID:America/New_York
BEGIN:DAYLIGHT
TZOFFSETFROM:-0500
TZOFFSETTO:-0400
TZNAME:EDT
DTSTART:20230312T070000
END:DAYLIGHT
BEGIN:STANDARD
TZOFFSETFROM:-0400
TZOFFSETTO:-0500
TZNAME:EST
DTSTART:20231105T060000
END:STANDARD
BEGIN:DAYLIGHT
TZOFFSETFROM:-0500
TZOFFSETTO:-0400
TZNAME:EDT
DTSTART:20240310T070000
END:DAYLIGHT
BEGIN:STANDARD
TZOFFSETFROM:-0400
TZOFFSETTO:-0500
TZNAME:EST
DTSTART:20241103T060000
END:STANDARD
BEGIN:DAYLIGHT
TZOFFSETFROM:-0500
TZOFFSETTO:-0400
TZNAME:EDT
DTSTART:20250309T070000
END:DAYLIGHT
BEGIN:STANDARD
TZOFFSETFROM:-0400
TZOFFSETTO:-0500
TZNAME:EST
DTSTART:20251102T060000
END:STANDARD
END:VTIMEZONE
BEGIN:VEVENT
DTSTART;TZID=America/New_York:20241009T170000
DTEND;TZID=America/New_York:20241009T190000
DTSTAMP:20260422T084749
CREATED:20240123T143556Z
LAST-MODIFIED:20240912T003718Z
UID:12075-1728493200-1728500400@sustainablesaratoga.org
SUMMARY:Green Drinks
DESCRIPTION:GREEN DRINKS WEDNESDAY OCTOBER 9!\nGreen Drinks! A “green gathering” for those who work\, volunteer\, or have a passion for promoting the environment\, conservation\, and sustainability.\nWHEN: Wednesday October 9\, from 5:00 – 7:00 pm\nWHERE: The Parting Glass\, 40-42 Lake Ave\, Saratoga Springs\nDETAILS: Food\, alcoholic\, and non-alcoholic drinks are available for purchase.\nGreen Drinks – Saratoga Springs is held monthly.\nWhile this is a networking event\, solicitation is not allowed.
URL:https://sustainablesaratoga.org/event/green-drinks-12/
LOCATION:The Parting Glass\, 40-42 Lake Avenue\, Saratoga Springs\, NY\, 12866\, United States
END:VEVENT
BEGIN:VEVENT
DTSTART;TZID=America/New_York:20241012T090000
DTEND;TZID=America/New_York:20241012T130000
DTSTAMP:20260422T084749
CREATED:20240524T174324Z
LAST-MODIFIED:20240524T174324Z
UID:13124-1728723600-1728738000@sustainablesaratoga.org
SUMMARY:Visit us at the Farmers' Market
DESCRIPTION:While each market is slightly diverse\, they primarily offer a variety of seasonal fresh fruits and vegetables\, ready made meals\, fresh brewed coffee and locally roasted coffee beans\, locally grown meat products\, fresh eggs\, locally produced dairy products\, fresh baked goods\, an array of floral vendors\, arts & crafts\, locally produced items such as jams\, spice mixes\, honey\, maple syrup\, distilleries and other gifts and creative finds.
URL:https://sustainablesaratoga.org/event/visit-us-at-the-farmers-market-4/
LOCATION:High Rock Park\, 112 High Rock Ave\, Saratoga Springs\, NY\, 12866\, United States
END:VEVENT
BEGIN:VEVENT
DTSTART;TZID=America/New_York:20241019T090000
DTEND;TZID=America/New_York:20241019T120000
DTSTAMP:20260422T084749
CREATED:20240517T183523Z
LAST-MODIFIED:20240917T142113Z
UID:13025-1729328400-1729339200@sustainablesaratoga.org
SUMMARY:Recycles Day
DESCRIPTION:Sustainable Saratoga is hosting our 8th annual Saratoga Recycles Day event sponsored by Adirondack Trust Company!\nWHAT: Saratoga Recycles Day\nWHEN: Saturday\, October 19\, from 9 am until noon\nWHERE: SPAC Parking Lot\, west side of Route 50\nCOST: There is a $5 entrance fee per vehicle (cash or check – please bring exact change). TVs are an additional $20 fee per item.\n\nPLEASE VISIT OUR WEBSITE FOR ADDITIONAL DETAILS: https://sustainablesaratoga.org/projects/zero-waste/saratoga-recycles-day/ \n\nWHAT WE ARE COLLECTING:\n1. The Saratoga Lions Club: sunglasses\, eyeglasses\, hearing aids in any condition. (NO cases)2. Wellspring: cell phones with chargers3. We Are Instrumental (any condition): Woodwind and brass instruments: flutes\, oboes\, clarinets\, bassoons\, saxophones\, trumpets french horns\, trombones\, baritones and tubas. String instruments: violins\, violas\, cellos\, basses. Any condition. (NO pianos or drum sets)\n4. Saratoga Children’s Literacy League & Bulk Book Warehouse: children\, young adult\, adult books and textbooks\, audiobooks\, DVDs\, CDs\, video games5. American Clothing Company (any condition clothing and textiles): clothes\, coats\, shoes\, belts\, hats\, gloves\, sleeping bags\, backpacks\, sheets\, quilts\, comforters\, towels\, rags\, etc. (NO pillows\, carpeting\, or rugs)6. Bikeatoga: Adult bicycles\, 20- and 24-inch mountain bikes (no helmets; no kids’ bikes)7. Scrapster: Refrigerants & Scrap Metal – basketball hoops\, grills\, unusable bikes\, metal lawn care equipment\, etc. for scrap metal recycling and refrigerators\, dehumidifiers\, and AC units.8. Capital Region Electronics Recycling: Electronics & Small Appliances – Microwaves\, toasters\, blenders\, coffee machines\, hot plates\, cable or satellite receivers\, audio/visual equipment\, phones\, computers & accessories\, printers\, VCRs\, DVD players\, video game systems\, wiring\, cables\, etc. NO smoke detectors or thermostats.* Televisions & Monitors: We WILL be accepting TVs again this year\, for an additional fee of $20 per item.\n\nPLEASE NOTE THAT WE CANNOT ACCEPT THE FOLLOWING ITEMS:\n~ Pillows~ Carpeting~ Rugs~ Thermostats~ Smoke detectors~ Fluorescent light bulbs~ Toxic/hazardous materials~ Batteries~ Large appliances
URL:https://sustainablesaratoga.org/event/recycles-day/
LOCATION:SPAC Parking Lot\, West side of Route 50\, West Side of Route 50\, Saratoga Springs\, NY\, 12866\, United States
END:VEVENT
END:VCALENDAR