BEGIN:VCALENDAR
VERSION:2.0
PRODID:-//Sustainable Saratoga - ECPv6.15.20//NONSGML v1.0//EN
CALSCALE:GREGORIAN
METHOD:PUBLISH
X-ORIGINAL-URL:https://sustainablesaratoga.org
X-WR-CALDESC:Events for Sustainable Saratoga
REFRESH-INTERVAL;VALUE=DURATION:PT1H
X-Robots-Tag:noindex
X-PUBLISHED-TTL:PT1H
BEGIN:VTIMEZONE
TZID:America/New_York
BEGIN:DAYLIGHT
TZOFFSETFROM:-0500
TZOFFSETTO:-0400
TZNAME:EDT
DTSTART:20230312T070000
END:DAYLIGHT
BEGIN:STANDARD
TZOFFSETFROM:-0400
TZOFFSETTO:-0500
TZNAME:EST
DTSTART:20231105T060000
END:STANDARD
BEGIN:DAYLIGHT
TZOFFSETFROM:-0500
TZOFFSETTO:-0400
TZNAME:EDT
DTSTART:20240310T070000
END:DAYLIGHT
BEGIN:STANDARD
TZOFFSETFROM:-0400
TZOFFSETTO:-0500
TZNAME:EST
DTSTART:20241103T060000
END:STANDARD
BEGIN:DAYLIGHT
TZOFFSETFROM:-0500
TZOFFSETTO:-0400
TZNAME:EDT
DTSTART:20250309T070000
END:DAYLIGHT
BEGIN:STANDARD
TZOFFSETFROM:-0400
TZOFFSETTO:-0500
TZNAME:EST
DTSTART:20251102T060000
END:STANDARD
END:VTIMEZONE
BEGIN:VEVENT
DTSTART;TZID=America/New_York:20240911T170000
DTEND;TZID=America/New_York:20240911T190000
DTSTAMP:20260422T102638
CREATED:20240123T143425Z
LAST-MODIFIED:20240806T184813Z
UID:12073-1726074000-1726081200@sustainablesaratoga.org
SUMMARY:Green Drinks
DESCRIPTION:GREEN DRINKS WEDNESDAY SEPTEMBER 11!\nGreen Drinks! A “green gathering” for those who work\, volunteer\, or have a passion for promoting the environment\, conservation\, and sustainability.\nWHEN: Wednesday September 11\, from 5:00 – 7:00 pm\nWHERE: The Parting Glass\, 40-42 Lake Ave\, Saratoga Springs\nDETAILS: Food\, alcoholic\, and non-alcoholic drinks are available for purchase.\nGreen Drinks – Saratoga Springs is held monthly.\nWhile this is a networking event\, solicitation is not allowed.
URL:https://sustainablesaratoga.org/event/green-drinks-11/
LOCATION:The Parting Glass\, 40-42 Lake Avenue\, Saratoga Springs\, NY\, 12866\, United States
END:VEVENT
BEGIN:VEVENT
DTSTART;TZID=America/New_York:20240914T110000
DTEND;TZID=America/New_York:20240914T120000
DTSTAMP:20260422T102638
CREATED:20240331T002409Z
LAST-MODIFIED:20240806T190535Z
UID:12647-1726311600-1726315200@sustainablesaratoga.org
SUMMARY:Composting in the Cold
DESCRIPTION:Did you know you can keep composting your food scraps even after the leaves fall and the snow begins to fly? This workshop will address how to optimize your fall leaf cleanup and ready your back yard compost system for hibernation. Beginning composters welcome. \nThis workshop will be led by Jennifer Armstrong.\nJennifer Armstrong has been gardening since childhood. Making compost for the garden has always been a strong motivation\, and now keeping food waste out of the landfill is an additional motivation. She is the chair of Sustainable Saratoga’s Compost Committee\, and has led numerous workshops in the area to help people get started with composting – whether they want the end product for their garden or not. \nComposting in the Cold is co-sponsored by Pitney Meadows Community Farm and Sustainable Saratoga. \nSustainable Saratoga is a not-for-profit organization that promotes sustainable practices and the protection of natural resources\, through education\, advocacy and action\, for the benefit of current and future generations in the Saratoga Springs area. The organization’s projects and events focus on 5 categories within sustainability: zero waste\, urban forestry\, pollinators\, land use\, and climate and energy. \nFounded in 2016\, Pitney Meadows Community Farm’s mission is to celebrate and explore agricultural education\, healthy food production\, and recreation on this preserved working farm. Located on 166 acres in the heart of the City of Saratoga Springs and preserved in perpetuity as a working farm\, Pitney Meadows is a unique resource. We’re committed to being good stewards of the land and serving the community that invested their tax dollars to preserve the Farm as open space. \nRegister here: https://secure.lglforms.com/form_engine/s/Nq2JungpLVX9Br_uGwxlXA?t=1711123483
URL:https://sustainablesaratoga.org/event/composting-in-the-cold/
LOCATION:Pitney Meadows Community Farm\, 223 West Ave\, Saratoga Springs\, 12866\, United States
END:VEVENT
BEGIN:VEVENT
DTSTART;TZID=America/New_York:20240921T090000
DTEND;TZID=America/New_York:20240921T130000
DTSTAMP:20260422T102638
CREATED:20240517T182123Z
LAST-MODIFIED:20240910T183545Z
UID:13019-1726909200-1726923600@sustainablesaratoga.org
SUMMARY:Paint Collection Day
DESCRIPTION:Paint Collection Day:  Saturday September 21\, 9:00am to 1:00pm\nNEW LOCATION:   Saratoga Springs High School parking lot (enter on West Avenue)\nThis is a free community event and donations are greatly appreciated.\nhttps://sustainablesaratoga.org/…/paint-collection-day/ \n\nPlease use this link to reserve a dropoff time. This helps regulate the flow of traffic and ensures shorter wait times for everyone: https://circular.eco/event/SS921\n \nGREENSHEEN WILL COLLECT AND RECYCLE: \n\nInterior and exterior architectural paints: Latex\, acrylic\, water-based\, alkyd\, oil-based\, enamel\nDeck coatings\, floor paints (including elastomeric)\nPrimers sealers\, undercoats\nStains\nShellacs\, sealers\, varnishes\, urethanes (single component)\nWaterproofing concrete/masonry/wood sealers and repellants (not tar or bitumen-based)\nMetal coatings\, rust preventatives\nField and lawn paints \nNo empty containers. Containers must be intact and not leaking and must have original manufacturer label. \n\nWE CANNOT ACCEPT THE FOLLOWING ITEMS: \n\nAerosols (spray cans)\nPaint thinners\, mineral spirits\, solvents\nAuto and marine paint\nArt and craft paint\nCaulking compounds\, epoxies\, glues\, adhesives\nPaint additives\, colorants\, tints\, resins\nEmpty containers\nLeaking containers\nContainers without original manufacturer label
URL:https://sustainablesaratoga.org/event/paint-collection-day-2/
LOCATION:Saratoga Springs High School\, 1 Bluestreak Blvd\, Saratoga Springs\, 12866\, United States
END:VEVENT
BEGIN:VEVENT
DTSTART;TZID=America/New_York:20240922T130000
DTEND;TZID=America/New_York:20240922T160000
DTSTAMP:20260422T102638
CREATED:20240123T180406Z
LAST-MODIFIED:20240910T165244Z
UID:12087-1727010000-1727020800@sustainablesaratoga.org
SUMMARY:Repair Cafe
DESCRIPTION:Saratoga Springs Public Library and Sustainable Saratoga are excited to host our 12th Repair Café at the library on Sunday September 22\, from 1pm – 4pm. \nWe will have coaches available to help you fix your lamps\, small appliances\, computers\, leather\, jewelry\, or sew/hem your favorite item of clothing or beloved stuffed animal. We can’t wait to see you! \nReservations are not needed. Please call 518-584-7860\, ext. 242 if you have any questions. \nNew parking restrictions are in place: Library parking lots are restricted to holders of library parking permits during the day. Check here for info on how to obtain a permit. If you don’t have a library parking permit\, you will need to park on the street or in one of the nearby parking garages. \n\nWe need volunteer repair coaches. If you have a fixit skill and you’d like to help out at this or future Repair Cafés\, click here.
URL:https://sustainablesaratoga.org/event/repair-cafe-2/
LOCATION:Saratoga Springs Public Library\, Harry Dutcher Community Room\, 49 Henry Street\, Saratoga Springs\, NY\, 12866\, United States
END:VEVENT
BEGIN:VEVENT
DTSTART;TZID=America/New_York:20240928T090000
DTEND;TZID=America/New_York:20240928T130000
DTSTAMP:20260422T102638
CREATED:20240524T174128Z
LAST-MODIFIED:20240524T174128Z
UID:13121-1727514000-1727528400@sustainablesaratoga.org
SUMMARY:Visit us at the Farmers' Market
DESCRIPTION:While each market is slightly diverse\, they primarily offer a variety of seasonal fresh fruits and vegetables\, ready made meals\, fresh brewed coffee and locally roasted coffee beans\, locally grown meat products\, fresh eggs\, locally produced dairy products\, fresh baked goods\, an array of floral vendors\, arts & crafts\, locally produced items such as jams\, spice mixes\, honey\, maple syrup\, distilleries and other gifts and creative finds.
URL:https://sustainablesaratoga.org/event/visit-us-at-the-farmers-market-3/
LOCATION:High Rock Park\, 112 High Rock Ave\, Saratoga Springs\, NY\, 12866\, United States
END:VEVENT
END:VCALENDAR