BEGIN:VCALENDAR
VERSION:2.0
PRODID:-//Sustainable Saratoga - ECPv6.15.20//NONSGML v1.0//EN
CALSCALE:GREGORIAN
METHOD:PUBLISH
X-WR-CALNAME:Sustainable Saratoga
X-ORIGINAL-URL:https://sustainablesaratoga.org
X-WR-CALDESC:Events for Sustainable Saratoga
REFRESH-INTERVAL;VALUE=DURATION:PT1H
X-Robots-Tag:noindex
X-PUBLISHED-TTL:PT1H
BEGIN:VTIMEZONE
TZID:America/New_York
BEGIN:DAYLIGHT
TZOFFSETFROM:-0500
TZOFFSETTO:-0400
TZNAME:EDT
DTSTART:20230312T070000
END:DAYLIGHT
BEGIN:STANDARD
TZOFFSETFROM:-0400
TZOFFSETTO:-0500
TZNAME:EST
DTSTART:20231105T060000
END:STANDARD
BEGIN:DAYLIGHT
TZOFFSETFROM:-0500
TZOFFSETTO:-0400
TZNAME:EDT
DTSTART:20240310T070000
END:DAYLIGHT
BEGIN:STANDARD
TZOFFSETFROM:-0400
TZOFFSETTO:-0500
TZNAME:EST
DTSTART:20241103T060000
END:STANDARD
BEGIN:DAYLIGHT
TZOFFSETFROM:-0500
TZOFFSETTO:-0400
TZNAME:EDT
DTSTART:20250309T070000
END:DAYLIGHT
BEGIN:STANDARD
TZOFFSETFROM:-0400
TZOFFSETTO:-0500
TZNAME:EST
DTSTART:20251102T060000
END:STANDARD
END:VTIMEZONE
BEGIN:VEVENT
DTSTART;TZID=America/New_York:20240706T090000
DTEND;TZID=America/New_York:20240706T130000
DTSTAMP:20260422T131421
CREATED:20240524T171547Z
LAST-MODIFIED:20240524T171547Z
UID:13112-1720256400-1720270800@sustainablesaratoga.org
SUMMARY:Visit us at the Farmers' Market
DESCRIPTION:While each market is slightly diverse\, they primarily offer a variety of seasonal fresh fruits and vegetables\, ready made meals\, fresh brewed coffee and locally roasted coffee beans\, locally grown meat products\, fresh eggs\, locally produced dairy products\, fresh baked goods\, an array of floral vendors\, arts & crafts\, locally produced items such as jams\, spice mixes\, honey\, maple syrup\, distilleries and other gifts and creative finds.
URL:https://sustainablesaratoga.org/event/visit-us-at-the-farmers-market/
LOCATION:High Rock Park\, 112 High Rock Ave\, Saratoga Springs\, NY\, 12866\, United States
END:VEVENT
BEGIN:VEVENT
DTSTART;TZID=America/New_York:20240728T093000
DTEND;TZID=America/New_York:20240728T103000
DTSTAMP:20260422T131421
CREATED:20240703T171812Z
LAST-MODIFIED:20240722T152814Z
UID:13303-1722159000-1722162600@sustainablesaratoga.org
SUMMARY:Habitat Gardening for Native Pollinators
DESCRIPTION:Join us in Pitney Meadow’s Community Garden for a conversation about habitat gardening to support our native pollinators and the importance of planting larval host plants. Pollinators play an essential role in plant reproduction but their populations are under threat. We’ll discuss the best things you can do to rewild your yard and transform it into a pollinator haven.\n\n\nThere will be 30 minutes of informational lecture and 30 minutes of group discussion and Q&A.
URL:https://sustainablesaratoga.org/event/habitat-gardening-for-native-pollinators/
LOCATION:Pitney Meadows Community Farm\, 223 West Ave\, Saratoga Springs\, 12866\, United States
ATTACH;FMTTYPE=image/jpeg:https://sustainablesaratoga.org/wp-content/uploads/2024/07/Bee-Photos-courtesy-of-Johanna-Garrison.jpg
END:VEVENT
END:VCALENDAR