BEGIN:VCALENDAR
VERSION:2.0
PRODID:-//Sustainable Saratoga - ECPv6.15.20//NONSGML v1.0//EN
CALSCALE:GREGORIAN
METHOD:PUBLISH
X-ORIGINAL-URL:https://sustainablesaratoga.org
X-WR-CALDESC:Events for Sustainable Saratoga
REFRESH-INTERVAL;VALUE=DURATION:PT1H
X-Robots-Tag:noindex
X-PUBLISHED-TTL:PT1H
BEGIN:VTIMEZONE
TZID:America/New_York
BEGIN:DAYLIGHT
TZOFFSETFROM:-0500
TZOFFSETTO:-0400
TZNAME:EDT
DTSTART:20230312T070000
END:DAYLIGHT
BEGIN:STANDARD
TZOFFSETFROM:-0400
TZOFFSETTO:-0500
TZNAME:EST
DTSTART:20231105T060000
END:STANDARD
BEGIN:DAYLIGHT
TZOFFSETFROM:-0500
TZOFFSETTO:-0400
TZNAME:EDT
DTSTART:20240310T070000
END:DAYLIGHT
BEGIN:STANDARD
TZOFFSETFROM:-0400
TZOFFSETTO:-0500
TZNAME:EST
DTSTART:20241103T060000
END:STANDARD
BEGIN:DAYLIGHT
TZOFFSETFROM:-0500
TZOFFSETTO:-0400
TZNAME:EDT
DTSTART:20250309T070000
END:DAYLIGHT
BEGIN:STANDARD
TZOFFSETFROM:-0400
TZOFFSETTO:-0500
TZNAME:EST
DTSTART:20251102T060000
END:STANDARD
END:VTIMEZONE
BEGIN:VEVENT
DTSTART;TZID=America/New_York:20240601T100000
DTEND;TZID=America/New_York:20240601T150000
DTSTAMP:20260422T144100
CREATED:20240123T175531Z
LAST-MODIFIED:20250516T140914Z
UID:12082-1717236000-1717254000@sustainablesaratoga.org
SUMMARY:Pollinator Palooza
DESCRIPTION:Click HERE for this year’s event info\nSustainable Saratoga is hosting Pollinator Palooza\, a native plant sale and pollinator education event\, on Saturday\, June 1 from 10-3. \nNative pollinators (bees\, butterflies\, etc.) are in drastic decline due to habitat loss\, pesticide use\, and climate change. Planting native plants provides essential food and habitat for native pollinators. It is often challenging to find native plants\, but at Pollinator Palooza\, you can shop our selection of over 35 native plant species. \n\nDATE: Saturday\, June 1\, 2024\nTIME: 10 am until 3 pm\nLOCATION: 390 Wilton-Gansevoort Rd\, Gansevoort\, 12831 (just 10 miles from downtown Saratoga Springs)\n\n\nPLEASE NOTE: Cash or check preferred \n\nMake a day of it! Learn how your garden\, no matter how small\, can help pollinators. Pollinator Palooza features information about sustainable gardening\, the importance of native species\, and general plant and pollinator educational resources\, including free soil pH testing. We will have fun kids’ activities\, raffles (gift certificates\, books\, plants\, and more)\, entertainment\, and delicious food from Coach’s Corner Food Truck and Sustainable Eats Food Truck!
URL:https://sustainablesaratoga.org/event/pollinator-palooza/
END:VEVENT
BEGIN:VEVENT
DTSTART;TZID=America/New_York:20240602T110000
DTEND;TZID=America/New_York:20240602T150000
DTSTAMP:20260422T144100
CREATED:20240524T143728Z
LAST-MODIFIED:20240524T143728Z
UID:13104-1717326000-1717340400@sustainablesaratoga.org
SUMMARY:Visit us at the Wildlife Festival
DESCRIPTION:The annual free Wildlife Festival happens once a year on the first weekend of June\, which is when we are able to see the first brood of the endangered Karner blue butterfly and the wild blue lupines in bloom.
URL:https://sustainablesaratoga.org/event/visit-us-at-the-wildlife-festival/
LOCATION:Camp Saratoga\, Scout Road\, Wilton\, NY\, United States
END:VEVENT
BEGIN:VEVENT
DTSTART;TZID=America/New_York:20240612T170000
DTEND;TZID=America/New_York:20240612T190000
DTSTAMP:20260422T144100
CREATED:20240123T143307Z
LAST-MODIFIED:20240514T185434Z
UID:12071-1718211600-1718218800@sustainablesaratoga.org
SUMMARY:Green Drinks
DESCRIPTION:GREEN DRINKS WEDNESDAY JUNE 12!\nGreen Drinks! A “green gathering” for those who work\, volunteer\, or have a passion for promoting the environment\, conservation\, and sustainability.\nWHEN: Wednesday June 12\, from 5:00 – 7:00 pm\nWHERE: The Parting Glass\, 40-42 Lake Ave\, Saratoga Springs\nDETAILS: Food\, alcoholic\, and non-alcoholic drinks are available for purchase.\nGreen Drinks – Saratoga Springs is held monthly.\nWhile this is a networking event\, solicitation is not allowed.
URL:https://sustainablesaratoga.org/event/green-drinks-10/
LOCATION:The Parting Glass\, 40-42 Lake Avenue\, Saratoga Springs\, NY\, 12866\, United States
END:VEVENT
BEGIN:VEVENT
DTSTART;TZID=America/New_York:20240619T120000
DTEND;TZID=America/New_York:20240619T160000
DTSTAMP:20260422T144100
CREATED:20240524T164912Z
LAST-MODIFIED:20240524T164912Z
UID:13107-1718798400-1718812800@sustainablesaratoga.org
SUMMARY:Visit us at the 3rd Annual Juneteenth Celebration
DESCRIPTION:Celebrating the 3rd National Remembrance of JUNETEENTH in Saratoga Springs with Programming\, Community Orgs & Vendors\, and Post-Program Reception!
URL:https://sustainablesaratoga.org/event/visit-us-at-the-3rd-annual-juneteenth-celebration/
LOCATION:Saratoga Springs YMCA\, 290 West Avenue\, Saratoga Springs\, 12866\, United States
END:VEVENT
BEGIN:VEVENT
DTSTART;TZID=America/New_York:20240620T180000
DTEND;TZID=America/New_York:20240620T190000
DTSTAMP:20260422T144100
CREATED:20240524T010202Z
LAST-MODIFIED:20240610T190059Z
UID:13095-1718906400-1718910000@sustainablesaratoga.org
SUMMARY:Northshire Saratoga: Justin Nobel - Petroleum-238
DESCRIPTION:Join us as acclaimed science journalist Justin Nobel shares his extraordinary seven-year investigation into how the U.S. oil and gas industry has avoided environmental regulations and created a dangerous and radioactive public health crisis. \nAs Justin Nobel traveled the United States reporting on the oil and gas industry he learned a disturbing and little-considered fact: more comes to the surface at a well than just the oil and gas. Each year the industry produces billions of tons of waste\, much of it toxic and radioactive. The fracking boom has only worsened the problem. So where does it all go? \nPetroleum-238 provides the shocking answer. Shielded by a system of lax regulations and legal loopholes\, this waste has been spilled\, spread\, injected\, dumped\, and freely emitted across America. Nobel relies on oilfield workers\, community activists\, a century of academic research\, and a trove of never-before released industry and government documents to lay out a series of game-changing reveals into the world’s most powerful industry. None have been more deceived than the industry’s own workers\, who are suffering mysterious health maladies and dying from unexplainable cancers. \nThis book is an impressive work of investigative science journalism with surprising moments of literary beauty\, and a welcome breakdown of the false wall corporations and politicians often set between industry workers and environmentalists. In the tradition of Rachel Carson’s Silent Spring\, Petroleum-238 is both a landmark work of environmental writing and an urgent call to action.
URL:https://sustainablesaratoga.org/event/northshire-saratoga-justin-nobel-petroleum-238/
LOCATION:Northshire Saratoga\, 424 Broadway\, Saratoga Springs\, 12866\, United States
ATTACH;FMTTYPE=image/jpeg:https://sustainablesaratoga.org/wp-content/uploads/2024/05/Petroleum-238.jpg
END:VEVENT
BEGIN:VEVENT
DTSTART;TZID=America/New_York:20240623T140000
DTEND;TZID=America/New_York:20240623T170000
DTSTAMP:20260422T144100
CREATED:20240524T165712Z
LAST-MODIFIED:20240524T165712Z
UID:13110-1719151200-1719162000@sustainablesaratoga.org
SUMMARY:Visit us at Saratoga Pride Festival
DESCRIPTION:The Saratoga Pride Festival is back in High Rock Park this year on Sunday\, June 23rd from 2:00-5:00pm with an after party to follow!
URL:https://sustainablesaratoga.org/event/visit-us-at-saratoga-pride-festival/
LOCATION:High Rock Park\, 112 High Rock Ave\, Saratoga Springs\, NY\, 12866\, United States
END:VEVENT
BEGIN:VEVENT
DTSTART;TZID=America/New_York:20240629T140000
DTEND;TZID=America/New_York:20240629T153000
DTSTAMP:20260422T144100
CREATED:20240524T011153Z
LAST-MODIFIED:20240524T011153Z
UID:13098-1719669600-1719675000@sustainablesaratoga.org
SUMMARY:The Story of Plastic
DESCRIPTION:The Story of Plastic is a searing exposé revealing the ugly truth behind plastic pollution and the false solution of plastic recycling. Different from every other plastic documentary you’ve seen\, The Story of Plastic presents a cohesive timeline of how we got to our current global plastic pollution crisis and how the oil and gas industry has successfully manipulated the narrative around it. From the extraction of fossil fuels and plastic disposal to the global resistance fighting back\, The Story of Plastic is a life-changing\, Emmy-winning film depicting one of the world’s most pressing environmental issues.  Approximately 95 minutes
URL:https://sustainablesaratoga.org/event/the-story-of-plastic/
LOCATION:Schuylerville Public Library\, 52 Ferry Street\, Schuylerville\, 12871\, United States
END:VEVENT
END:VCALENDAR