BEGIN:VCALENDAR
VERSION:2.0
PRODID:-//Sustainable Saratoga - ECPv6.15.20//NONSGML v1.0//EN
CALSCALE:GREGORIAN
METHOD:PUBLISH
X-WR-CALNAME:Sustainable Saratoga
X-ORIGINAL-URL:https://sustainablesaratoga.org
X-WR-CALDESC:Events for Sustainable Saratoga
REFRESH-INTERVAL;VALUE=DURATION:PT1H
X-Robots-Tag:noindex
X-PUBLISHED-TTL:PT1H
BEGIN:VTIMEZONE
TZID:America/New_York
BEGIN:DAYLIGHT
TZOFFSETFROM:-0500
TZOFFSETTO:-0400
TZNAME:EDT
DTSTART:20220313T070000
END:DAYLIGHT
BEGIN:STANDARD
TZOFFSETFROM:-0400
TZOFFSETTO:-0500
TZNAME:EST
DTSTART:20221106T060000
END:STANDARD
BEGIN:DAYLIGHT
TZOFFSETFROM:-0500
TZOFFSETTO:-0400
TZNAME:EDT
DTSTART:20230312T070000
END:DAYLIGHT
BEGIN:STANDARD
TZOFFSETFROM:-0400
TZOFFSETTO:-0500
TZNAME:EST
DTSTART:20231105T060000
END:STANDARD
BEGIN:DAYLIGHT
TZOFFSETFROM:-0500
TZOFFSETTO:-0400
TZNAME:EDT
DTSTART:20240310T070000
END:DAYLIGHT
BEGIN:STANDARD
TZOFFSETFROM:-0400
TZOFFSETTO:-0500
TZNAME:EST
DTSTART:20241103T060000
END:STANDARD
BEGIN:DAYLIGHT
TZOFFSETFROM:-0500
TZOFFSETTO:-0400
TZNAME:EDT
DTSTART:20250309T070000
END:DAYLIGHT
BEGIN:STANDARD
TZOFFSETFROM:-0400
TZOFFSETTO:-0500
TZNAME:EST
DTSTART:20251102T060000
END:STANDARD
END:VTIMEZONE
BEGIN:VEVENT
DTSTART;TZID=America/New_York:20240427T093000
DTEND;TZID=America/New_York:20240427T120000
DTSTAMP:20260422T182555
CREATED:20230216T021536Z
LAST-MODIFIED:20240215T201348Z
UID:11778-1714210200-1714219200@sustainablesaratoga.org
SUMMARY:Tree Toga
DESCRIPTION:We need you to help us plant the next generation of large-growing shade trees in Saratoga Springs! This Tree Toga\, we are adding 35 large-growing shade trees to the urban forest on April 27. \nVOLUNTEER to PLANT a tree with us on Saturday April 27 (a family-friendly activity)\nVOLUNTEER to help out with parking and refreshments on the day of the event\nVOLUNTEER to WATER TREES during the summer\nHOST A TREE — Request one for your property (we’re still taking requests for our 2024 planting) \n\n\nClick here to volunteer today and give a gift of trees to the next generation! \n\nQuestions? Email trees@sustainablesaratoga.org
URL:https://sustainablesaratoga.org/event/tree-toga/
LOCATION:Pitney Meadows Community Farm\, 223 West Ave\, Saratoga Springs\, 12866\, United States
ATTACH;FMTTYPE=image/jpeg:https://sustainablesaratoga.org/wp-content/uploads/2024/01/web-header-treetoga-10th-v3.jpg
END:VEVENT
BEGIN:VEVENT
DTSTART;TZID=America/New_York:20240420T100000
DTEND;TZID=America/New_York:20240420T120000
DTSTAMP:20260422T182555
CREATED:20240123T181200Z
LAST-MODIFIED:20240329T120734Z
UID:12092-1713607200-1713614400@sustainablesaratoga.org
SUMMARY:Team Up to Clean Up
DESCRIPTION:Join us for our 4th annual Earth Day Team Up to Clean Up Event! SIGN UP HERE \nLast year’s litter clean-up was a huge success and we are doing it again this year for Earth Day. The event will be held on Saturday\, April 20 10am-12pm. (Rain date Sunday April 21) We will provide gloves\, vests and garbage bags. Invite your friends and family to join! \nWant to clean up but unable to join us? Pledge to clean up your own neighborhood! Your action will not only inspire and improve our community\, but it will help to remove the ever-increasing threat posed by plastic waste which contaminates our water\, soil\, air and wildlife. Thank you for helping to make this community a better place for all living beings now and in the future.
URL:https://sustainablesaratoga.org/event/team-up-to-clean-up/
END:VEVENT
BEGIN:VEVENT
DTSTART;TZID=America/New_York:20240413T100000
DTEND;TZID=America/New_York:20240413T150000
DTSTAMP:20260422T182555
CREATED:20231219T020646Z
LAST-MODIFIED:20240215T194335Z
UID:11774-1713002400-1713020400@sustainablesaratoga.org
SUMMARY:Saratoga Sustainability Fair
DESCRIPTION:Rev up for a greener tomorrow at the 2024 Saratoga Sustainability Fair on Saturday\, April 13! Admission is FREE. Explore the latest in eco-friendly rides at the Electronic Vehicle Show\, let the kids dive into fun and learning\, and discover green innovations in the Exhibit Hall. \n\n\nEngage with experts in two quick-paced Panel Discussions:\nCultivating a Sustainable Future – Regenerative Agriculture at the Intersection of Climate Action\, Environmental Justice\, and Human Health\nFrom Waste to Wisdom – Unwrapping the Plastic Problem and Its Impacts on People and Planet \n\nThe Saratoga Sustainability Fair is co-hosted by Sustainable Saratoga and Skidmore College.
URL:https://sustainablesaratoga.org/event/saratoga-sustainability-fair/
LOCATION:Skidmore College\, Case Center\, 815 N Broadway\, Saratoga Springs\, 12866\, United States
END:VEVENT
BEGIN:VEVENT
DTSTART;TZID=America/New_York:20240410T170000
DTEND;TZID=America/New_York:20240410T190000
DTSTAMP:20260422T182555
CREATED:20240123T142909Z
LAST-MODIFIED:20240314T161122Z
UID:12067-1712768400-1712775600@sustainablesaratoga.org
SUMMARY:Green Drinks
DESCRIPTION:GREEN DRINKS WEDNESDAY APRIL 10!\nGreen Drinks! A “green gathering” for those who work\, volunteer\, or have a passion for promoting the environment\, conservation\, and sustainability.\nWHEN: Wednesday April 10\, from 5:00 – 7:00 pm\nWHERE: The Parting Glass\, 40-42 Lake Ave\, Saratoga Springs\nDETAILS: Food\, alcoholic\, and non-alcoholic drinks are available for purchase.\nGreen Drinks – Saratoga Springs is held monthly.\nWhile this is a networking event\, solicitation is not allowed.
URL:https://sustainablesaratoga.org/event/green-drinks-8/
LOCATION:The Parting Glass\, 40-42 Lake Avenue\, Saratoga Springs\, NY\, 12866\, United States
END:VEVENT
BEGIN:VEVENT
DTSTART;TZID=America/New_York:20240313T170000
DTEND;TZID=America/New_York:20240313T190000
DTSTAMP:20260422T182555
CREATED:20240123T142642Z
LAST-MODIFIED:20240223T014355Z
UID:12065-1710349200-1710356400@sustainablesaratoga.org
SUMMARY:Green Drinks
DESCRIPTION:GREEN DRINKS MARCH 13!\nGreen Drinks! A “green gathering” for those who work\, volunteer\, or have a passion for promoting the environment\, conservation\, and sustainability.\nWHEN: March 13\, from 5:00 – 7:00 pm\nWHERE: The Parting Glass\, 40-42 Lake Ave\, Saratoga Springs\nDETAILS: Food\, alcoholic\, and non-alcoholic drinks are available for purchase.\nGreen Drinks – Saratoga Springs is held monthly.\nWhile this is a networking event\, solicitation is not allowed.
URL:https://sustainablesaratoga.org/event/green-drinks-7/
LOCATION:The Parting Glass\, 40-42 Lake Avenue\, Saratoga Springs\, NY\, 12866\, United States
END:VEVENT
BEGIN:VEVENT
DTSTART;TZID=America/New_York:20240303T130000
DTEND;TZID=America/New_York:20240303T160000
DTSTAMP:20260422T182555
CREATED:20231219T015707Z
LAST-MODIFIED:20240217T013646Z
UID:11772-1709470800-1709481600@sustainablesaratoga.org
SUMMARY:Repair Cafe
DESCRIPTION:Saratoga Springs Public Library and Sustainable Saratoga are excited to host our 11th Repair Café at the Library on Sunday March 3\, from 1pm – 4pm. \n\n\nWe will have Repair Coaches available to help you fix your lamps\, small appliances\, computers\, leather\, jewelry\, or sew/hem your favorite item of clothing or beloved stuffed animal. \n\n\nYou don’t need a reservation\, and there’s no cost. Call 518-584-7860\, ext. 242 if you have any questions. We can’t wait to see you!
URL:https://sustainablesaratoga.org/event/repair-cafe-march-2024/
LOCATION:Saratoga Springs Public Library\, Harry Dutcher Community Room\, 49 Henry Street\, Saratoga Springs\, NY\, 12866\, United States
END:VEVENT
BEGIN:VEVENT
DTSTART;TZID=America/New_York:20240207T170000
DTEND;TZID=America/New_York:20240207T190000
DTSTAMP:20260422T182555
CREATED:20240111T141640Z
LAST-MODIFIED:20240123T182845Z
UID:11947-1707325200-1707332400@sustainablesaratoga.org
SUMMARY:Green Drinks
DESCRIPTION:GREEN DRINKS WEDNESDAY FEBRUARY 7!\nGreen Drinks! A “green gathering” for those who work\, volunteer\, or have a passion for promoting the environment\, conservation\, and sustainability.\nWHEN: Wednesday February 7\, from 5:00 – 7:00 pm\nWHERE: The Parting Glass\, 40-42 Lake Ave\, Saratoga Springs\nDETAILS: Food\, alcoholic\, and non-alcoholic drinks are available for purchase.\nGreen Drinks – Saratoga Springs is held monthly.\nWhile this is a networking event\, solicitation is not allowed.
URL:https://sustainablesaratoga.org/event/green-drinks-6/
LOCATION:The Parting Glass\, 40-42 Lake Avenue\, Saratoga Springs\, NY\, 12866\, United States
END:VEVENT
BEGIN:VEVENT
DTSTART;TZID=America/New_York:20240110T170000
DTEND;TZID=America/New_York:20240110T190000
DTSTAMP:20260422T182555
CREATED:20231214T190015Z
LAST-MODIFIED:20231222T015922Z
UID:11767-1704906000-1704913200@sustainablesaratoga.org
SUMMARY:Green Drinks
DESCRIPTION:GREEN DRINKS January 10!\nGreen Drinks! A “green gathering” for those who work\, volunteer\, or have a passion for promoting the environment\, conservation\, and sustainability.\nWHEN: January 10\, from 5:00 – 7:00 pm\nWHERE: The Parting Glass\, 40-42 Lake Ave\, Saratoga Springs\nDETAILS: Food\, alcoholic\, and non-alcoholic drinks are available for purchase.\nGreen Drinks – Saratoga Springs is held monthly.\nWhile this is a networking event\, solicitation is not allowed. \nRetro overlay cocktail card in vector format.
URL:https://sustainablesaratoga.org/event/green-drinks-5/
LOCATION:The Parting Glass\, 40-42 Lake Avenue\, Saratoga Springs\, NY\, 12866\, United States
END:VEVENT
BEGIN:VEVENT
DTSTART;TZID=America/New_York:20231213T170000
DTEND;TZID=America/New_York:20231213T190000
DTSTAMP:20260422T182555
CREATED:20231126T124633Z
LAST-MODIFIED:20231126T124633Z
UID:11603-1702486800-1702494000@sustainablesaratoga.org
SUMMARY:Green Drinks
DESCRIPTION:GREEN DRINKS DECEMBER 13!\nGreen Drinks! A “green gathering” for those who work\, volunteer\, or have a passion for promoting the environment\, conservation\, and sustainability.\nWHEN: December 13\, from 5:00 – 7:00 pm\nWHERE: The Parting Glass\, 40-42 Lake Ave\, Saratoga Springs\nDETAILS: Food\, alcoholic\, and non-alcoholic drinks are available for purchase.\nGreen Drinks – Saratoga Springs is held monthly.\nWhile this is a networking event\, solicitation is not allowed.
URL:https://sustainablesaratoga.org/event/green-drinks-4/
LOCATION:The Parting Glass\, 40-42 Lake Avenue\, Saratoga Springs\, NY\, 12866\, United States
END:VEVENT
BEGIN:VEVENT
DTSTART;TZID=America/New_York:20231209T130000
DTEND;TZID=America/New_York:20231209T160000
DTSTAMP:20260422T182555
CREATED:20230728T000406Z
LAST-MODIFIED:20231005T012522Z
UID:10836-1702126800-1702137600@sustainablesaratoga.org
SUMMARY:Repair Cafe
DESCRIPTION:Saratoga Springs Public Library and Sustainable Saratoga are excited to host our 10th Repair Café in the Harry Dutcher Room at the Saratoga Springs Public Library. \n\nWe have coaches available to help you fix your lamps\, small appliances\, computers\, leather\, jewelry\, or sew/hem your favorite item of clothes or beloved stuffed animal. We can’t wait to see you! Please call 518-584-7860 ext. 242 for more information.
URL:https://sustainablesaratoga.org/event/repair-cafe/
LOCATION:Saratoga Springs Public Library\, Harry Dutcher Community Room\, 49 Henry Street\, Saratoga Springs\, NY\, 12866\, United States
END:VEVENT
BEGIN:VEVENT
DTSTART;TZID=America/New_York:20231118T080000
DTEND;TZID=America/New_York:20231118T120000
DTSTAMP:20260422T182555
CREATED:20231003T145917Z
LAST-MODIFIED:20231003T145917Z
UID:11307-1700294400-1700308800@sustainablesaratoga.org
SUMMARY:Household Hazardous Waste Day
DESCRIPTION:The City of Saratoga Springs is hosting their bi-annual Hazardous Waste Collection Day on November 18th\, 2023 at Weibel Avenue Ice Rink. \n2023 Household Hazardous Waste Acceptable Materials (PDF)
URL:https://sustainablesaratoga.org/event/household-hazardous-waste-day/
LOCATION:Weibel Avenue Ice Rink\, 30 Weibel Ave\, Saratoga Springs\, NY\, 12866\, United States
END:VEVENT
BEGIN:VEVENT
DTSTART;TZID=America/New_York:20231108T170000
DTEND;TZID=America/New_York:20231108T190000
DTSTAMP:20260422T182555
CREATED:20231017T131533Z
LAST-MODIFIED:20231017T131533Z
UID:11465-1699462800-1699470000@sustainablesaratoga.org
SUMMARY:Green Drinks
DESCRIPTION:GREEN DRINKS NOVEMBER 8!\nGreen Drinks! A “green gathering” for those who work\, volunteer\, or have a passion for promoting the environment\, conservation\, and sustainability.\nWHEN: November 8\, from 5:00 – 7:00 pm\nWHERE: The Parting Glass\, 40-42 Lake Ave\, Saratoga Springs\nDETAILS: Food\, alcoholic\, and non-alcoholic drinks are available for purchase.\nGreen Drinks – Saratoga Springs is held monthly.\nWhile this is a networking event\, solicitation is not allowed.
URL:https://sustainablesaratoga.org/event/green-drinks-3/
LOCATION:The Parting Glass\, 40-42 Lake Avenue\, Saratoga Springs\, NY\, 12866\, United States
END:VEVENT
BEGIN:VEVENT
DTSTART;TZID=America/New_York:20231106T190000
DTEND;TZID=America/New_York:20231106T200000
DTSTAMP:20260422T182555
CREATED:20230812T002214Z
LAST-MODIFIED:20231005T010640Z
UID:11021-1699297200-1699300800@sustainablesaratoga.org
SUMMARY:Year of No Garbage Book Event
DESCRIPTION:Eve Schaub will be doing a 45-minute presentation about Year of No Garbage and the reality of our recycling system and how it impacts our environment. Following the presentation there will be a Q&A session and a book signing for guests.
URL:https://sustainablesaratoga.org/event/year-of-no-garbage-book-event/
LOCATION:Skidmore College\, Palamountain Hall\, Emerson Auditorium\, 815 N Broadway\, Saratoga Springs\, NY\, 12866\, United States
END:VEVENT
BEGIN:VEVENT
DTSTART;TZID=America/New_York:20231022T150000
DTEND;TZID=America/New_York:20231022T160000
DTSTAMP:20260422T182555
CREATED:20230812T001310Z
LAST-MODIFIED:20231005T012448Z
UID:11019-1697986800-1697990400@sustainablesaratoga.org
SUMMARY:Family Composting Workshop
DESCRIPTION:Join Sustainable Saratoga for a fun and informative workshop for the whole family about how to compost. Composting is an amazing\, natural process that almost anyone can do at home! It’s also one of the best ways you can help fight climate change! Suitable for families with children ages 5 and up.
URL:https://sustainablesaratoga.org/event/family-composting-workshop/
LOCATION:Saratoga Springs Public Library\, Harry Dutcher Community Room\, 49 Henry Street\, Saratoga Springs\, NY\, 12866\, United States
END:VEVENT
BEGIN:VEVENT
DTSTART;TZID=America/New_York:20231021T100000
DTEND;TZID=America/New_York:20231021T140000
DTSTAMP:20260422T182555
CREATED:20230726T211011Z
LAST-MODIFIED:20231005T011539Z
UID:10833-1697882400-1697896800@sustainablesaratoga.org
SUMMARY:Paint Collection Day
DESCRIPTION:Paint Collection Day\, Oct 21\, 10:00 to 3:00\nSPAC Parking Lot\, West side of Route 50\nSingle Households Only\nPAINT COLLECTION DAY is a free community event with day-of donations greatly appreciated.\nhttps://sustainablesaratoga.org/…/paint-collection-day/ \nPre-registration is encouraged- https://www.eventbrite.com/e/706038960537?aff=oddtdtcreator\nWE ARE COLLECTING THE FOLLOWING ITEMS ONLY ON OCTOBER 21:\nGreenSheen will collect and recycle:\nInterior and exterior architectural paints: Latex\, acrylic\, water-based\, alkyd\, oil-based\, enamel\nDeck coatings\, floor paints (including elastomeric)\nPrimers sealers\, undercoaters\nStains\nShellacs\, sealers\, varnishes\, urethanes (single component)\nWaterproofing concrete/masonry/wood sealers and repellants (not tar or bitumen-based)\nMetal coatings\, rust preventatives\nField and lawn paints\nNo empty containers. Containers must be intact and not leaking and must have original manufacturer label.\nWE CANNOT ACCEPT THE FOLLOWING ITEMS:\nAerosols (spray cans)\nPaint thinners\, mineral spirits\, solvents\nAuto and marine paint\nArt and craft paint\nCaulking compounds\, epoxies\, glues\, adhesives\nPaint additives\, colorants\, tints\, resins\nEmpty containers\nLeaking containers\nContainers without original manufacturer label
URL:https://sustainablesaratoga.org/event/paint-collection-day/
LOCATION:SPAC Parking Lot\, West Side of Route 50\, Saratoga Springs\, 12866\, United States
END:VEVENT
BEGIN:VEVENT
DTSTART;TZID=America/New_York:20231014T090000
DTEND;TZID=America/New_York:20231014T130000
DTSTAMP:20260422T182555
CREATED:20230812T001035Z
LAST-MODIFIED:20231005T011831Z
UID:11017-1697274000-1697288400@sustainablesaratoga.org
SUMMARY:Saratoga Farmers' Market
DESCRIPTION:Visit our table at the Saratoga Farmers’ Market to learn more about federal\, state\, and utility incentives that can save you money while improving the health\, comfort\, and sustainability of your home.
URL:https://sustainablesaratoga.org/event/saratoga-farmers-market-2/
LOCATION:High Rock Park\, 112 High Rock Ave\, Saratoga Springs\, NY\, 12866\, United States
END:VEVENT
BEGIN:VEVENT
DTSTART;TZID=America/New_York:20231011T170000
DTEND;TZID=America/New_York:20231011T190000
DTSTAMP:20260422T182555
CREATED:20230920T125506Z
LAST-MODIFIED:20230920T125736Z
UID:11235-1697043600-1697050800@sustainablesaratoga.org
SUMMARY:Green Drinks
DESCRIPTION:GREEN DRINKS OCTOBER 11! Green Drinks! A “green gathering” for those who work\, volunteer\, or have a passion for promoting the environment\, conservation\, and sustainability. WHEN: October 11\, from 5:00 – 7:00 pm WHERE: The Parting Glass\, 40-42 Lake Ave\, Saratoga Springs DETAILS: Food\, alcoholic\, and non-alcoholic drinks are available for purchase.Green Drinks – Saratoga Springs is held monthly.While this is a networking event\, solicitation is not allowed. \n 
URL:https://sustainablesaratoga.org/event/green-drinks-2/
LOCATION:The Parting Glass\, 40-42 Lake Avenue\, Saratoga Springs\, NY\, 12866\, United States
END:VEVENT
BEGIN:VEVENT
DTSTART;TZID=America/New_York:20231007T090000
DTEND;TZID=America/New_York:20231007T120000
DTSTAMP:20260422T182555
CREATED:20230726T210530Z
LAST-MODIFIED:20231005T012041Z
UID:10830-1696669200-1696680000@sustainablesaratoga.org
SUMMARY:Saratoga Recycles Day
DESCRIPTION:Sustainable Saratoga is hosting our 7th annual Saratoga Recycles Day event!\nWHAT: Saratoga Recycles Day\nWHEN: Saturday\, October 7\, from 9 am until noon\nWHERE: SPAC Parking Lot\, west side of Route 50\nCOST: There is a $5 entrance fee per vehicle (cash or check – please bring exact change). TVs and monitors are an additional $30 fee per item\nPLEASE VISIT OUR WEBSITE FOR ADDITIONAL DETAILS https://sustainablesaratoga.org/…/saratoga-recycles-day/\nWHAT WE ARE COLLECTING:\n1. The Saratoga Lions Club: sunglasses\, eyeglasses\, hearing aids in any condition. (NO cases)\n2. Wellspring: cell phones with chargers\n3. We Are Instrumental (any condition): Woodwind and brass instruments: flutes\, oboes\, clarinets\, bassoons\, saxophones\, trumpets french horns\, trombones\, baritones and tubas. String instruments: violins\, violas\, cellos\, basses. Any condition. (NO pianos or drum sets)\n4. RISE: camping items in good condition (tents\, stoves\, backpacks\, sleeping bags and pads)\n5. American Clothing Company (any condition clothing and textiles): clothes\, coats\, shoes\, belts\, hats\, gloves\, sleeping bags\, backpacks\, sheets\, quilts\, comforters\, towels\, rags\, etc. (NO pillows\, carpeting\, or rugs)\n6. Bikeatoga: UNABLE TO PARTICIPATE IN THIS YEAR’S EVENT\n7. JGS Recycling: Refrigerants & Scrap Metal – basketball hoops\, grills\, unusable bikes\, metal lawn care equipment\, etc. for scrap metal recycling and refrigerators\, dehumidifiers\, and AC units.\n8. eLot Recycling: Electronics & Small Appliances – Microwaves\, toasters\, blenders\, coffee machines\, hot plates\, cable or satellite receivers\, audio/visual equipment\, phones\, computers & accessories\, printers\, VCRs\, DVD players\, video game systems\, wiring\, cables\, etc. NO smoke detectors or thermostats.\n* Televisions & Monitors: We WILL be accepting TVs and monitors again this year\, for an additional fee of $30 per item.\nPLEASE NOTE THAT WE CANNOT ACCEPT THE FOLLOWING ITEMS:\n~ Pillows\n~ Carpeting\n~ Rugs\n~ Thermostats\n~ Smoke detectors\n~ Fluorescent light bulbs\n~ Toxic/hazardous materials\n~ Batteries\n~ Large appliances
URL:https://sustainablesaratoga.org/event/10830/
LOCATION:SPAC Parking Lot\, West Side of Route 50\, Saratoga Springs\, 12866\, United States
END:VEVENT
BEGIN:VEVENT
DTSTART;TZID=America/New_York:20230917T130000
DTEND;TZID=America/New_York:20230917T143000
DTSTAMP:20260422T182555
CREATED:20230726T205721Z
LAST-MODIFIED:20230726T205721Z
UID:10827-1694955600-1694961000@sustainablesaratoga.org
SUMMARY:Volunteer Open House
DESCRIPTION:Sustainable Saratoga Volunteer Open House\nSunday\, September 17th 1-2:30pm\nSaratoga Springs Public Library- Dutcher Community Room\nAnyone interested in becoming a volunteer or learning more about Sustainable Saratoga is welcome to attend. Find out about our current volunteer opportunities in Urban Forestry\, Pollinator Protection\, Land Use\, Zero Waste\, and Climate and Energy. We will start with a presentation about each of our 5 committees\, followed by a meet and greet session where you can talk with our executive director\, board members\, and committee members. \n.
URL:https://sustainablesaratoga.org/event/volunteer-open-house/
END:VEVENT
BEGIN:VEVENT
DTSTART;TZID=America/New_York:20230913T170000
DTEND;TZID=America/New_York:20230913T190000
DTSTAMP:20260422T182555
CREATED:20230725T035807Z
LAST-MODIFIED:20230726T210232Z
UID:10818-1694624400-1694631600@sustainablesaratoga.org
SUMMARY:Green Drinks
DESCRIPTION:GREEN DRINKS SEPTEMBER 13!\nGreen Drinks! A “green gathering” for those who work\, volunteer\, or have a passion for promoting the environment\, conservation\, and sustainability.\nWHEN: September 13\, from 5:00 – 7:00 pm\nWHERE: The Parting Glass\, 40-42 Lake Ave\, Saratoga Springs\nDETAILS: Food\, alcoholic\, and non-alcoholic drinks are available for purchase.\nGreen Drinks – Saratoga Springs is held monthly.\nWhile this is a networking event\, solicitation is not allowed.
URL:https://sustainablesaratoga.org/event/green-drinks/
LOCATION:The Parting Glass\, 40-42 Lake Avenue\, Saratoga Springs\, NY\, 12866\, United States
END:VEVENT
BEGIN:VEVENT
DTSTART;TZID=America/New_York:20230909T090000
DTEND;TZID=America/New_York:20230909T130000
DTSTAMP:20260422T182555
CREATED:20230812T000757Z
LAST-MODIFIED:20230812T000757Z
UID:11015-1694250000-1694264400@sustainablesaratoga.org
SUMMARY:Saratoga Farmers' Market
DESCRIPTION:Visit our table at the Saratoga Farmers’ Market to learn more about federal\, state\, and utility incentives that can save you money while improving the health\, comfort\, and sustainability of your home.
URL:https://sustainablesaratoga.org/event/saratoga-farmers-market/
END:VEVENT
END:VCALENDAR