BEGIN:VCALENDAR
VERSION:2.0
PRODID:-//Sustainable Saratoga - ECPv6.15.20//NONSGML v1.0//EN
CALSCALE:GREGORIAN
METHOD:PUBLISH
X-ORIGINAL-URL:https://sustainablesaratoga.org
X-WR-CALDESC:Events for Sustainable Saratoga
REFRESH-INTERVAL;VALUE=DURATION:PT1H
X-Robots-Tag:noindex
X-PUBLISHED-TTL:PT1H
BEGIN:VTIMEZONE
TZID:America/New_York
BEGIN:DAYLIGHT
TZOFFSETFROM:-0500
TZOFFSETTO:-0400
TZNAME:EDT
DTSTART:20240310T070000
END:DAYLIGHT
BEGIN:STANDARD
TZOFFSETFROM:-0400
TZOFFSETTO:-0500
TZNAME:EST
DTSTART:20241103T060000
END:STANDARD
BEGIN:DAYLIGHT
TZOFFSETFROM:-0500
TZOFFSETTO:-0400
TZNAME:EDT
DTSTART:20250309T070000
END:DAYLIGHT
BEGIN:STANDARD
TZOFFSETFROM:-0400
TZOFFSETTO:-0500
TZNAME:EST
DTSTART:20251102T060000
END:STANDARD
BEGIN:DAYLIGHT
TZOFFSETFROM:-0500
TZOFFSETTO:-0400
TZNAME:EDT
DTSTART:20260308T070000
END:DAYLIGHT
BEGIN:STANDARD
TZOFFSETFROM:-0400
TZOFFSETTO:-0500
TZNAME:EST
DTSTART:20261101T060000
END:STANDARD
END:VTIMEZONE
BEGIN:VEVENT
DTSTART;TZID=America/New_York:20251022T180000
DTEND;TZID=America/New_York:20251022T190000
DTSTAMP:20260422T183159
CREATED:20250828T152734Z
LAST-MODIFIED:20250828T152734Z
UID:14943-1761156000-1761159600@sustainablesaratoga.org
SUMMARY:Bill McKibben in conversation with Joe Donahue about his book Here Comes the Sun
DESCRIPTION:Join us on Wednesday\, October 22 at 6 PM for a special event with environmentalist Bill McKibben at Skidmore College! \nHe’ll be in conversation with Joe Donahue about his book\, Here Comes the Sun: A Last Chance for the Climate and a Fresh Chance for Civilization. \nMcKibben’s new release\, isn’t just a call to embrace solar energy—it’s a rallying cry for a more equitable\, sustainable world. As he argues\, the era of “alternative” energy is over—renewables are now scalable\, affordable\, and essential to our future. But the fight is far from over\, and this book offers both a sobering assessment and a spark of hope. \nThis event is ticketed. Reserve your spot now—and be part of a conversation that matters. https://www.northshire.com/event/northshire-saratoga-bill-mckibben-here-comes-sun-tickets-required
URL:https://sustainablesaratoga.org/event/bill-mckibben-in-conversation-with-joe-donahue-about-his-book-here-comes-the-sun/
LOCATION:Skidmore College Gannet Auditorium\, 815 N Broadway\, Saratoga Springs\, NY\, 12866\, United States
ATTACH;FMTTYPE=image/jpeg:https://sustainablesaratoga.org/wp-content/uploads/2025/08/Here-Comes-The-Sun-Oct25.jpg
END:VEVENT
END:VCALENDAR