BEGIN:VCALENDAR
VERSION:2.0
PRODID:-//Sustainable Saratoga - ECPv6.15.20//NONSGML v1.0//EN
CALSCALE:GREGORIAN
METHOD:PUBLISH
X-ORIGINAL-URL:https://sustainablesaratoga.org
X-WR-CALDESC:Events for Sustainable Saratoga
REFRESH-INTERVAL;VALUE=DURATION:PT1H
X-Robots-Tag:noindex
X-PUBLISHED-TTL:PT1H
BEGIN:VTIMEZONE
TZID:America/New_York
BEGIN:DAYLIGHT
TZOFFSETFROM:-0500
TZOFFSETTO:-0400
TZNAME:EDT
DTSTART:20240310T070000
END:DAYLIGHT
BEGIN:STANDARD
TZOFFSETFROM:-0400
TZOFFSETTO:-0500
TZNAME:EST
DTSTART:20241103T060000
END:STANDARD
BEGIN:DAYLIGHT
TZOFFSETFROM:-0500
TZOFFSETTO:-0400
TZNAME:EDT
DTSTART:20250309T070000
END:DAYLIGHT
BEGIN:STANDARD
TZOFFSETFROM:-0400
TZOFFSETTO:-0500
TZNAME:EST
DTSTART:20251102T060000
END:STANDARD
BEGIN:DAYLIGHT
TZOFFSETFROM:-0500
TZOFFSETTO:-0400
TZNAME:EDT
DTSTART:20260308T070000
END:DAYLIGHT
BEGIN:STANDARD
TZOFFSETFROM:-0400
TZOFFSETTO:-0500
TZNAME:EST
DTSTART:20261101T060000
END:STANDARD
END:VTIMEZONE
BEGIN:VEVENT
DTSTART;TZID=America/New_York:20250913T100000
DTEND;TZID=America/New_York:20250913T140000
DTSTAMP:20260422T195755
CREATED:20250710T205520Z
LAST-MODIFIED:20250801T193228Z
UID:14854-1757757600-1757772000@sustainablesaratoga.org
SUMMARY:Electric Car Show
DESCRIPTION:Join Us for the 2025 EV Car Show in a new location!\n Saturday\, September 13\, 2025 10:00 AM – 2:00 PM Tec-SMART at HVCC North\, Malta\, NY\nDiscover the future of driving at the EV Car Show\, presented by Sustainable Saratoga and Hudson Valley Community College! This free\, family-friendly event features:\n A wide variety of electric vehicles on display Informational tables with experts from top industry vendors Guided tours of the LEED-certified HVCC North building Resources on sustainability\, clean energy\, and more \nWhether you’re an EV owner\, enthusiast\, or simply curious—there’s something here for everyone. Come learn\, explore\, and get inspired!\nhttps://www.hvcc.edu/events/2025/09/ev-car-show-at-hvcc-north.html
URL:https://sustainablesaratoga.org/event/electric-car-and-e-bike-show/
END:VEVENT
BEGIN:VEVENT
DTSTART;TZID=America/New_York:20250913T130000
DTEND;TZID=America/New_York:20250913T160000
DTSTAMP:20260422T195755
CREATED:20250508T182725Z
LAST-MODIFIED:20250722T173447Z
UID:14656-1757768400-1757779200@sustainablesaratoga.org
SUMMARY:Repair Cafe
DESCRIPTION:Toss it? No way! Bring an item that needs repair and work with a Repair Café coach to fix it.\n\nSaratoga Springs Public Library and Sustainable Saratoga are excited to host our 14th Repair Café at the library on Saturday September 13 from 1pm – 4pm. \n\nWe will have coaches available to help you fix your lamps\, small appliances\, computers\, leather\, jewelry\, or sew/hem your favorite item of clothing or beloved stuffed animal. We can’t wait to see you!\n\nQuestions? Call 518-584-7860\, ext. 242
URL:https://sustainablesaratoga.org/event/repair-cafe-5/
LOCATION:Saratoga Springs Public Library\, Harry Dutcher Community Room\, 49 Henry Street\, Saratoga Springs\, NY\, 12866\, United States
END:VEVENT
END:VCALENDAR