BEGIN:VCALENDAR
VERSION:2.0
PRODID:-//Sustainable Saratoga - ECPv6.15.20//NONSGML v1.0//EN
CALSCALE:GREGORIAN
METHOD:PUBLISH
X-ORIGINAL-URL:https://sustainablesaratoga.org
X-WR-CALDESC:Events for Sustainable Saratoga
REFRESH-INTERVAL;VALUE=DURATION:PT1H
X-Robots-Tag:noindex
X-PUBLISHED-TTL:PT1H
BEGIN:VTIMEZONE
TZID:America/New_York
BEGIN:DAYLIGHT
TZOFFSETFROM:-0500
TZOFFSETTO:-0400
TZNAME:EDT
DTSTART:20240310T070000
END:DAYLIGHT
BEGIN:STANDARD
TZOFFSETFROM:-0400
TZOFFSETTO:-0500
TZNAME:EST
DTSTART:20241103T060000
END:STANDARD
BEGIN:DAYLIGHT
TZOFFSETFROM:-0500
TZOFFSETTO:-0400
TZNAME:EDT
DTSTART:20250309T070000
END:DAYLIGHT
BEGIN:STANDARD
TZOFFSETFROM:-0400
TZOFFSETTO:-0500
TZNAME:EST
DTSTART:20251102T060000
END:STANDARD
BEGIN:DAYLIGHT
TZOFFSETFROM:-0500
TZOFFSETTO:-0400
TZNAME:EDT
DTSTART:20260308T070000
END:DAYLIGHT
BEGIN:STANDARD
TZOFFSETFROM:-0400
TZOFFSETTO:-0500
TZNAME:EST
DTSTART:20261101T060000
END:STANDARD
END:VTIMEZONE
BEGIN:VEVENT
DTSTART;TZID=America/New_York:20250528T190000
DTEND;TZID=America/New_York:20250528T200000
DTSTAMP:20260422T171507
CREATED:20250121T175319Z
LAST-MODIFIED:20250430T232956Z
UID:14146-1748458800-1748462400@sustainablesaratoga.org
SUMMARY:Science on Tap
DESCRIPTION:Science On Tap is a monthly series of informal talks led by scientists that explore current research topics and the importance of science in our daily life. Each talk takes place in a relaxed pub atmosphere where communication flows freely between scientists and the public. Co-presented by Skidmore’s Environmental Studies and Sciences Department and Sustainable Saratoga\, these monthly opportunities for discussion reflect the unique intellectual culture of the greater Capital Region and promote scientific literacy. \nThe next Science on Tap is Wednesday\, May 28 @ 7:00 pm. \nAdmission is free and all ages are welcome. Come early to get a bite to eat. The talk will start promptly at 7:00pm. \nTalk Title: Don’t Sleep on the Fly! What Studies of Fruit Flies Can Teach Us about Sleep\nWe spend almost 1/3 of our life sleeping\, and yet we know very little about this mysterious behavioral state. An answer to even the seemingly simplest question continues to elude us: Why do we get sleepy? In the last 20 years\, many advances in our understanding of this topic have come from studies of an unlikely subject – the fruit fly\, Drosophila melanogaster. In this talk\, I will discuss some of the broad benefits of studying sleep in fruit flies and will share some of the projects from my lab in which we examine how sleep is regulated by internal and environmental factors. \nChris Vecsey\, Ph.D. is an Associate Professor and Director of the Neuroscience Program at Skidmore College. He has been at Skidmore for 10 years\, but before that was a Visiting Assistant Professor at Swarthmore College\, a Postdoctoral Fellow at Brandeis University\, a Ph.D. student at the University of Pennsylvania\, and an undergraduate at Amherst College. His research examines the neurobiological mechanisms of sleep regulation in fruit flies\, and he teaches courses on Neurophysiology\, Mechanisms of Memory\, and the Neurobiology of Sleep. \n\nScience on Tap Saratoga
URL:https://sustainablesaratoga.org/event/science-on-tap-6/
LOCATION:Common Roots Brewing Company\, 58 Saratoga Ave\, South Glens Falls\, 12803\, United States
END:VEVENT
END:VCALENDAR