BEGIN:VCALENDAR
VERSION:2.0
PRODID:-//Sustainable Saratoga - ECPv6.15.20//NONSGML v1.0//EN
CALSCALE:GREGORIAN
METHOD:PUBLISH
X-WR-CALNAME:Sustainable Saratoga
X-ORIGINAL-URL:https://sustainablesaratoga.org
X-WR-CALDESC:Events for Sustainable Saratoga
REFRESH-INTERVAL;VALUE=DURATION:PT1H
X-Robots-Tag:noindex
X-PUBLISHED-TTL:PT1H
BEGIN:VTIMEZONE
TZID:America/New_York
BEGIN:DAYLIGHT
TZOFFSETFROM:-0500
TZOFFSETTO:-0400
TZNAME:EDT
DTSTART:20230312T070000
END:DAYLIGHT
BEGIN:STANDARD
TZOFFSETFROM:-0400
TZOFFSETTO:-0500
TZNAME:EST
DTSTART:20231105T060000
END:STANDARD
BEGIN:DAYLIGHT
TZOFFSETFROM:-0500
TZOFFSETTO:-0400
TZNAME:EDT
DTSTART:20240310T070000
END:DAYLIGHT
BEGIN:STANDARD
TZOFFSETFROM:-0400
TZOFFSETTO:-0500
TZNAME:EST
DTSTART:20241103T060000
END:STANDARD
BEGIN:DAYLIGHT
TZOFFSETFROM:-0500
TZOFFSETTO:-0400
TZNAME:EDT
DTSTART:20250309T070000
END:DAYLIGHT
BEGIN:STANDARD
TZOFFSETFROM:-0400
TZOFFSETTO:-0500
TZNAME:EST
DTSTART:20251102T060000
END:STANDARD
END:VTIMEZONE
BEGIN:VEVENT
DTSTART;TZID=America/New_York:20240303T130000
DTEND;TZID=America/New_York:20240303T160000
DTSTAMP:20260422T195630
CREATED:20231219T015707Z
LAST-MODIFIED:20240217T013646Z
UID:11772-1709470800-1709481600@sustainablesaratoga.org
SUMMARY:Repair Cafe
DESCRIPTION:Saratoga Springs Public Library and Sustainable Saratoga are excited to host our 11th Repair Café at the Library on Sunday March 3\, from 1pm – 4pm. \n\n\nWe will have Repair Coaches available to help you fix your lamps\, small appliances\, computers\, leather\, jewelry\, or sew/hem your favorite item of clothing or beloved stuffed animal. \n\n\nYou don’t need a reservation\, and there’s no cost. Call 518-584-7860\, ext. 242 if you have any questions. We can’t wait to see you!
URL:https://sustainablesaratoga.org/event/repair-cafe-march-2024/
LOCATION:Saratoga Springs Public Library\, Harry Dutcher Community Room\, 49 Henry Street\, Saratoga Springs\, NY\, 12866\, United States
END:VEVENT
END:VCALENDAR