BEGIN:VCALENDAR
VERSION:2.0
PRODID:-//Sustainable Saratoga - ECPv6.15.20//NONSGML v1.0//EN
CALSCALE:GREGORIAN
METHOD:PUBLISH
X-WR-CALNAME:Sustainable Saratoga
X-ORIGINAL-URL:https://sustainablesaratoga.org
X-WR-CALDESC:Events for Sustainable Saratoga
REFRESH-INTERVAL;VALUE=DURATION:PT1H
X-Robots-Tag:noindex
X-PUBLISHED-TTL:PT1H
BEGIN:VTIMEZONE
TZID:America/New_York
BEGIN:DAYLIGHT
TZOFFSETFROM:-0500
TZOFFSETTO:-0400
TZNAME:EDT
DTSTART:20220313T070000
END:DAYLIGHT
BEGIN:STANDARD
TZOFFSETFROM:-0400
TZOFFSETTO:-0500
TZNAME:EST
DTSTART:20221106T060000
END:STANDARD
BEGIN:DAYLIGHT
TZOFFSETFROM:-0500
TZOFFSETTO:-0400
TZNAME:EDT
DTSTART:20230312T070000
END:DAYLIGHT
BEGIN:STANDARD
TZOFFSETFROM:-0400
TZOFFSETTO:-0500
TZNAME:EST
DTSTART:20231105T060000
END:STANDARD
BEGIN:DAYLIGHT
TZOFFSETFROM:-0500
TZOFFSETTO:-0400
TZNAME:EDT
DTSTART:20240310T070000
END:DAYLIGHT
BEGIN:STANDARD
TZOFFSETFROM:-0400
TZOFFSETTO:-0500
TZNAME:EST
DTSTART:20241103T060000
END:STANDARD
END:VTIMEZONE
BEGIN:VEVENT
DTSTART;TZID=America/New_York:20231007T090000
DTEND;TZID=America/New_York:20231007T120000
DTSTAMP:20260425T095423
CREATED:20230726T210530Z
LAST-MODIFIED:20231005T012041Z
UID:10830-1696669200-1696680000@sustainablesaratoga.org
SUMMARY:Saratoga Recycles Day
DESCRIPTION:Sustainable Saratoga is hosting our 7th annual Saratoga Recycles Day event!\nWHAT: Saratoga Recycles Day\nWHEN: Saturday\, October 7\, from 9 am until noon\nWHERE: SPAC Parking Lot\, west side of Route 50\nCOST: There is a $5 entrance fee per vehicle (cash or check – please bring exact change). TVs and monitors are an additional $30 fee per item\nPLEASE VISIT OUR WEBSITE FOR ADDITIONAL DETAILS https://sustainablesaratoga.org/…/saratoga-recycles-day/\nWHAT WE ARE COLLECTING:\n1. The Saratoga Lions Club: sunglasses\, eyeglasses\, hearing aids in any condition. (NO cases)\n2. Wellspring: cell phones with chargers\n3. We Are Instrumental (any condition): Woodwind and brass instruments: flutes\, oboes\, clarinets\, bassoons\, saxophones\, trumpets french horns\, trombones\, baritones and tubas. String instruments: violins\, violas\, cellos\, basses. Any condition. (NO pianos or drum sets)\n4. RISE: camping items in good condition (tents\, stoves\, backpacks\, sleeping bags and pads)\n5. American Clothing Company (any condition clothing and textiles): clothes\, coats\, shoes\, belts\, hats\, gloves\, sleeping bags\, backpacks\, sheets\, quilts\, comforters\, towels\, rags\, etc. (NO pillows\, carpeting\, or rugs)\n6. Bikeatoga: UNABLE TO PARTICIPATE IN THIS YEAR’S EVENT\n7. JGS Recycling: Refrigerants & Scrap Metal – basketball hoops\, grills\, unusable bikes\, metal lawn care equipment\, etc. for scrap metal recycling and refrigerators\, dehumidifiers\, and AC units.\n8. eLot Recycling: Electronics & Small Appliances – Microwaves\, toasters\, blenders\, coffee machines\, hot plates\, cable or satellite receivers\, audio/visual equipment\, phones\, computers & accessories\, printers\, VCRs\, DVD players\, video game systems\, wiring\, cables\, etc. NO smoke detectors or thermostats.\n* Televisions & Monitors: We WILL be accepting TVs and monitors again this year\, for an additional fee of $30 per item.\nPLEASE NOTE THAT WE CANNOT ACCEPT THE FOLLOWING ITEMS:\n~ Pillows\n~ Carpeting\n~ Rugs\n~ Thermostats\n~ Smoke detectors\n~ Fluorescent light bulbs\n~ Toxic/hazardous materials\n~ Batteries\n~ Large appliances
URL:https://sustainablesaratoga.org/event/10830/
LOCATION:SPAC Parking Lot\, West Side of Route 50\, Saratoga Springs\, 12866\, United States
END:VEVENT
END:VCALENDAR